BEGIN:VCALENDAR
METHOD:PUBLISH
PRODID:-//github.com/rianjs/ical.net//NONSGML ical.net 4.0//EN
VERSION:2.0
BEGIN:VEVENT
DESCRIPTION:Kinobesuch im Filmpodium\n\nThe Howling
DTEND:20260423T203000
DTSTAMP:20260419T191252Z
DTSTART:20260423T183000
LOCATION:Filmpodium\, Nüschelerstrasse 11\, 8001 Zürich
SEQUENCE:0
SUMMARY:Filmpodium - The Howling
UID:12a45698-485e-42cc-8872-28a5f3709b7d
END:VEVENT
END:VCALENDAR
