BEGIN:VCALENDAR
METHOD:PUBLISH
PRODID:-//github.com/rianjs/ical.net//NONSGML ical.net 4.0//EN
VERSION:2.0
BEGIN:VEVENT
DESCRIPTION:Kinobesuch im Filmpodium\n\nRocco e i suoi fratelli
DTEND:20260424T170000
DTSTAMP:20260419T191605Z
DTSTART:20260424T150000
LOCATION:Filmpodium\, Nüschelerstrasse 11\, 8001 Zürich
SEQUENCE:0
SUMMARY:Filmpodium - Rocco e i suoi fratelli
UID:8e7d6f38-5b82-4f88-9c7b-284154677bcc
END:VEVENT
END:VCALENDAR
