BEGIN:VCALENDAR
METHOD:PUBLISH
PRODID:-//github.com/rianjs/ical.net//NONSGML ical.net 4.0//EN
VERSION:2.0
BEGIN:VEVENT
DESCRIPTION:Kinobesuch im Filmpodium\n\nOn the Beach at Night Alone
DTEND:20260424T203000
DTSTAMP:20260419T191731Z
DTSTART:20260424T183000
LOCATION:Filmpodium\, Nüschelerstrasse 11\, 8001 Zürich
SEQUENCE:0
SUMMARY:Filmpodium - On the Beach at Night Alone
UID:46649d89-94cf-4d1f-96de-ac619c2e8fea
END:VEVENT
END:VCALENDAR
