BEGIN:VCALENDAR
METHOD:PUBLISH
PRODID:-//github.com/rianjs/ical.net//NONSGML ical.net 4.0//EN
VERSION:2.0
BEGIN:VEVENT
DESCRIPTION:Kinobesuch im Filmpodium\n\nLʼonorevole Angelina
DTEND:20260424T224500
DTSTAMP:20260419T191731Z
DTSTART:20260424T204500
LOCATION:Filmpodium\, Nüschelerstrasse 11\, 8001 Zürich
SEQUENCE:0
SUMMARY:Filmpodium - Lʼonorevole Angelina
UID:77eb5c76-286a-4526-8dcb-9c111c3be701
END:VEVENT
END:VCALENDAR
