BEGIN:VCALENDAR
METHOD:PUBLISH
PRODID:-//github.com/rianjs/ical.net//NONSGML ical.net 4.0//EN
VERSION:2.0
BEGIN:VEVENT
DESCRIPTION:Kinobesuch im Filmpodium\n\nSmall Soldiers
DTEND:20260425T170000
DTSTAMP:20260419T191355Z
DTSTART:20260425T150000
LOCATION:Filmpodium\, Nüschelerstrasse 11\, 8001 Zürich
SEQUENCE:0
SUMMARY:Filmpodium - Small Soldiers
UID:9fc8f2a6-e861-4176-b2ac-3b69a8e4ae0b
END:VEVENT
END:VCALENDAR
