BEGIN:VCALENDAR
METHOD:PUBLISH
PRODID:-//github.com/rianjs/ical.net//NONSGML ical.net 4.0//EN
VERSION:2.0
BEGIN:VEVENT
DESCRIPTION:Kinobesuch im Filmpodium\n\nSpäter Frühling
DTEND:20260426T170000
DTSTAMP:20260419T191548Z
DTSTART:20260426T150000
LOCATION:Filmpodium\, Nüschelerstrasse 11\, 8001 Zürich
SEQUENCE:0
SUMMARY:Filmpodium - Später Frühling
UID:0b1ccb32-fd21-4095-bdb6-e93cd3e67eca
END:VEVENT
END:VCALENDAR
