BEGIN:VCALENDAR
METHOD:PUBLISH
PRODID:-//github.com/rianjs/ical.net//NONSGML ical.net 4.0//EN
VERSION:2.0
BEGIN:VEVENT
DESCRIPTION:Kinobesuch im Filmpodium\n\nDeutschschweizer Premiere: Two Mou
 ntains Weighing Down My Chest
DTEND:20260426T200000
DTSTAMP:20260419T191751Z
DTSTART:20260426T180000
LOCATION:Filmpodium\, Nüschelerstrasse 11\, 8001 Zürich
SEQUENCE:0
SUMMARY:Filmpodium - Deutschschweizer Premiere: Two Mountains Weighing Dow
 n My Chest
UID:145c509c-cae6-4717-8ab8-87c1dc720dc5
END:VEVENT
END:VCALENDAR
