BEGIN:VCALENDAR
METHOD:PUBLISH
PRODID:-//github.com/rianjs/ical.net//NONSGML ical.net 4.0//EN
VERSION:2.0
BEGIN:VEVENT
DESCRIPTION:Kinobesuch im Filmpodium\n\nVorpremiere: Folichonneries
DTEND:20260429T223000
DTSTAMP:20260419T191605Z
DTSTART:20260429T203000
LOCATION:Filmpodium\, Nüschelerstrasse 11\, 8001 Zürich
SEQUENCE:0
SUMMARY:Filmpodium - Vorpremiere: Folichonneries
UID:2a66cb5a-b3aa-48dc-9bb8-67c02780efc3
END:VEVENT
END:VCALENDAR
