BEGIN:VCALENDAR
METHOD:PUBLISH
PRODID:-//github.com/rianjs/ical.net//NONSGML ical.net 4.0//EN
VERSION:2.0
BEGIN:VEVENT
DESCRIPTION:Kinobesuch im Filmpodium\n\nFolichonneries
DTEND:20260429T221200
DTSTAMP:20260419T191431Z
DTSTART:20260429T203000
LOCATION:Filmpodium\, Nüschelerstrasse 11\, 8001 Zürich
SEQUENCE:0
SUMMARY:Filmpodium - Folichonneries
UID:7fe8418d-5adf-4659-95c0-94d55aafdc93
END:VEVENT
END:VCALENDAR
