BEGIN:VCALENDAR
METHOD:PUBLISH
PRODID:-//github.com/rianjs/ical.net//NONSGML ical.net 4.0//EN
VERSION:2.0
BEGIN:VEVENT
DESCRIPTION:Kinobesuch im Filmpodium\n\nFemale Misbehavior
DTEND:20260503T223000
DTSTAMP:20260419T191252Z
DTSTART:20260503T203000
LOCATION:Filmpodium\, Nüschelerstrasse 11\, 8001 Zürich
SEQUENCE:0
SUMMARY:Filmpodium - Female Misbehavior
UID:3cbada43-5694-40a5-aac4-e7223fcf4285
END:VEVENT
END:VCALENDAR
