BEGIN:VCALENDAR
METHOD:PUBLISH
PRODID:-//github.com/rianjs/ical.net//NONSGML ical.net 4.0//EN
VERSION:2.0
BEGIN:VEVENT
DESCRIPTION:Kinobesuch im Filmpodium\n\nEhrenpreis Golden Apple 2026 für M
 onika Treut
DTEND:20260504T200000
DTSTAMP:20260419T191750Z
DTSTART:20260504T180000
LOCATION:Filmpodium\, Nüschelerstrasse 11\, 8001 Zürich
SEQUENCE:0
SUMMARY:Filmpodium - Ehrenpreis Golden Apple 2026 für Monika Treut
UID:ab9cb0ac-b7db-49b7-8ab6-850255dc4eb0
END:VEVENT
END:VCALENDAR
