BEGIN:VCALENDAR
METHOD:PUBLISH
PRODID:-//github.com/rianjs/ical.net//NONSGML ical.net 4.0//EN
VERSION:2.0
BEGIN:VEVENT
DESCRIPTION:Kinobesuch im Filmpodium\n\nVon Mädchen und Pferden
DTEND:20260505T223000
DTSTAMP:20260419T191731Z
DTSTART:20260505T203000
LOCATION:Filmpodium\, Nüschelerstrasse 11\, 8001 Zürich
SEQUENCE:0
SUMMARY:Filmpodium - Von Mädchen und Pferden
UID:08aff780-c1a9-4bf0-8e3f-d03825f96c2c
END:VEVENT
END:VCALENDAR
