BEGIN:VCALENDAR
METHOD:PUBLISH
PRODID:-//github.com/rianjs/ical.net//NONSGML ical.net 4.0//EN
VERSION:2.0
BEGIN:VEVENT
DESCRIPTION:Kinobesuch im Filmpodium\n\nLettres ouvertes
DTEND:20260520T191600
DTSTAMP:20260421T201904Z
DTSTART:20260520T181500
LOCATION:Filmpodium\, Nüschelerstrasse 11\, 8001 Zürich
SEQUENCE:0
SUMMARY:Filmpodium - Lettres ouvertes
UID:44a724c4-9404-4e4e-a203-57f42f46fa37
END:VEVENT
END:VCALENDAR
