BEGIN:VCALENDAR
METHOD:PUBLISH
PRODID:-//github.com/rianjs/ical.net//NONSGML ical.net 4.0//EN
VERSION:2.0
BEGIN:VEVENT
DESCRIPTION:Kinobesuch im Filmpodium\n\nMatter Out of Place
DTEND:20260602T200000
DTSTAMP:20260421T201044Z
DTSTART:20260602T181500
LOCATION:Filmpodium\, Nüschelerstrasse 11\, 8001 Zürich
SEQUENCE:0
SUMMARY:Filmpodium - Matter Out of Place
UID:e7eb230e-9157-4c17-8bfb-adefb9665494
END:VEVENT
END:VCALENDAR
