BEGIN:VCALENDAR
METHOD:PUBLISH
PRODID:-//github.com/rianjs/ical.net//NONSGML ical.net 4.0//EN
VERSION:2.0
BEGIN:VEVENT
DESCRIPTION:Kinobesuch im Filmpodium\n\nKaraoke
DTEND:20260627T230000
DTSTAMP:20260421T201806Z
DTSTART:20260627T210000
LOCATION:Filmpodium\, Nüschelerstrasse 11\, 8001 Zürich
SEQUENCE:0
SUMMARY:Filmpodium - Karaoke
UID:e67c9862-f0d6-44c0-a535-b98aa4ae757a
END:VEVENT
END:VCALENDAR
